{"text_format":"1","workbook":"xlsx","n_sheets":2,"sheets":["Costs","Charts"],"not_rendered":{"charts":4,"images":0,"macros":1,"external_links":0,"defined_names":0,"comments":0,"pivot_tables":0},"unopened":[],"bounds":{"document_bytes":16777216,"sheet_cells":100000,"rows_first":2000,"rows_last":500,"rows_between":2000,"halvings":0,"cell_chars":16384,"cell_head_chars":4096},"cells_cut":0,"cells_raw":0,"read":"whole","date_system":"1900"}

{"sheet":"Costs","index":0,"n_rows":39,"n_cols":22,"rows_kept":39,"cut":false,"hidden":false,"merged":[]}
[]
["Average Monthly Burn",{"$f":"-(V39/12)","v":-33202.777777777781}]
["Cash Available (Capital)",300000]
["How many months you have until cash will be burned totally",{"$f":"-(B3/B2)","v":9.0353886053710362}]
[]
["Salaries: "]
["Title","Annual Salary","Bonus","Salary + Bonus","Date Hired ","2018-01-15","2018-02-15","2018-03-15","Q1 2018","2018-04-15","2018-05-15","2018-06-15","Q2 2018","2018-07-15","2018-08-15","2018-09-15","Q3 2018","2018-10-15","2018-11-15","2018-12-15","Q4 2018","FY 2018"]
["CEO",80000,0.09,{"$f":"B8+(B8*C8)","v":87200},"2018-01-01",{"$f":"IF($E8<=F$7, $D8/12, 0)","v":7266.666666666667},7266.666666666667,7266.666666666667,{"$f":"SUM(F8:H8)","v":21800},{"$f":"IF($E8<=J$7, $D8/12, 0)","v":7266.666666666667},7266.666666666667,7266.666666666667,{"$f":"SUM(J8:L8)","v":21800},{"$f":"IF($E8<=N$7, $D8/12, 0)","v":7266.666666666667},7266.666666666667,7266.666666666667,{"$f":"SUM(N8:P8)","v":21800},{"$f":"IF($E8<=R$7, $D8/12, 0)","v":7266.666666666667},7266.666666666667,7266.666666666667,{"$f":"SUM(R8:T8)","v":21800},{"$f":"I8+M8+Q8+U8","v":87200}]
["CTO ",80000,0.09,87200,"2018-01-01",7266.666666666667,7266.666666666667,7266.666666666667,21800,7266.666666666667,7266.666666666667,7266.666666666667,21800,7266.666666666667,7266.666666666667,7266.666666666667,21800,7266.666666666667,7266.666666666667,7266.666666666667,21800,87200]
["Engineer 1 ",80000,0.09,87200,"2018-04-01",0,0,0,0,7266.666666666667,7266.666666666667,7266.666666666667,21800,7266.666666666667,7266.666666666667,7266.666666666667,21800,7266.666666666667,7266.666666666667,7266.666666666667,21800,65400]
["Engineer 2",80000,0.09,87200,"2018-04-01",0,0,0,0,7266.666666666667,7266.666666666667,7266.666666666667,21800,7266.666666666667,7266.666666666667,7266.666666666667,21800,7266.666666666667,7266.666666666667,7266.666666666667,21800,65400]
["Designer",80000,0.09,87200,"2018-05-01",0,0,0,0,0,7266.666666666667,7266.666666666667,14533.333333333334,7266.666666666667,7266.666666666667,7266.666666666667,21800,7266.666666666667,7266.666666666667,7266.666666666667,21800,58133.333333333336]
["Add more",0,0.09,0,null,0,0,0,0,0,0,0,0,0,0,0,0,0,0,0,0,0]
["Add more",0,0.09,0,null,0,0,0,0,0,0,0,0,0,0,0,0,0,0,0,0,0]
["Add more",0,0.09,0,null,0,0,0,0,0,0,0,0,0,0,0,0,0,0,0,0,0]
["Add more",0,0.09,0,null,0,0,0,0,0,0,0,0,0,0,0,0,0,0,0,0,0]
["Add more",0,0.09,0,null,0,0,0,0,0,0,0,0,0,0,0,0,0,0,0,0,0]
["Total:",{"$f":"SUM(B8:B17)","v":400000},null,null,null,{"$f":"SUM(F8:F17)","v":14533.333333333334},14533.333333333334,14533.333333333334,43600,29066.666666666668,36333.333333333336,36333.333333333336,101733.33333333333,36333.333333333336,36333.333333333336,36333.333333333336,109000,36333.333333333336,36333.333333333336,36333.333333333336,109000,363333.33333333331]
["Number of people in team",null,null,null,null,{"$f":"COUNTIF(F8:F17,\">0\")","v":2},2,2,2,4,5,5,5,5,5,5,5,5,5,5,5,5]
[]
[]
["Office: "]
["Title","Annual",null,null,"Start Date","2018-01-15","2018-02-15","2018-03-15","Q1 2018","2018-04-15","2018-05-15","2018-06-15","Q2 2018","2018-07-15","2018-08-15","2018-09-15","Q3 2018","2018-10-15","2018-11-15","2018-12-15","Q4 2018","FY 2018"]
["Rent",18000,null,null,"2018-01-01",{"$f":"IF($E24<=F$23, $B24/12, 0)","v":1500},1500,1500,{"$f":"SUM(F24:H24)","v":4500},{"$f":"IF($E24<=J$23, $B24/12, 0)","v":1500},1500,1500,{"$f":"SUM(J24:L24)","v":4500},{"$f":"IF($E24<=N$23, $B24/12, 0)","v":1500},1500,1500,{"$f":"SUM(N24:P24)","v":4500},{"$f":"IF($E24<=R$23, $B24/12, 0)","v":1500},1500,1500,{"$f":"SUM(R24:T24)","v":4500},{"$f":"I24+M24+Q24+U24","v":18000}]
["Other OpEx related to office",3600,null,null,"2018-01-01",300,300,300,900,300,300,300,900,300,300,300,900,300,300,300,900,3600]
["Add more",0,null,null,"2018-01-01",0,0,0,0,0,0,0,0,0,0,0,0,0,0,0,0,0]
["Add more",0,null,null,"2018-01-01",0,0,0,0,0,0,0,0,0,0,0,0,0,0,0,0,0]
["Total:",{"$f":"SUM(B24:B27)","v":21600},null,null,null,{"$f":"SUM(F24:F25)","v":1800},1800,1800,5400,1800,1800,1800,5400,1800,1800,1800,5400,1800,1800,1800,5400,21600]
[]
[]
["Marketing:"]
["Title","Annual",null,null,"Start Date","2018-01-15","2018-02-15","2018-03-15","Q1 2018","2018-04-15","2018-05-15","2018-06-15","Q2 2018","2018-07-15","2018-08-15","2018-09-15","Q3 2018","2018-10-15","2018-11-15","2018-12-15","Q4 2018","FY 2018"]
["Acquisition campaigns",18000,null,null,"2018-04-01",{"$f":"IF($E33<=F$32, $B33/12, 0)","v":0},0,0,{"$f":"SUM(F33:H33)","v":0},{"$f":"IF($E33<=J$32, $B33/12, 0)","v":1500},1500,1500,{"$f":"SUM(J33:L33)","v":4500},{"$f":"IF($E33<=N$32, $B33/12, 0)","v":1500},1500,1500,{"$f":"SUM(N33:P33)","v":4500},{"$f":"IF($E33<=R$32, $B33/12, 0)","v":1500},1500,1500,{"$f":"SUM(R33:T33)","v":4500},{"$f":"I33+M33+Q33+U33","v":13500}]
["Add more",0,null,null,null,0,0,0,0,0,0,0,0,0,0,0,0,0,0,0,0,0]
["Total:",{"$f":"SUM(B33:B34)","v":18000},null,null,null,{"$f":"SUM(F33:F34)","v":0},0,0,0,{"$f":"SUM(J33:J34)","v":1500},1500,1500,4500,{"$f":"SUM(N33:N34)","v":1500},1500,1500,4500,{"$f":"SUM(R33:R34)","v":1500},1500,1500,4500,13500]
[]
["Total costs:"]
["Title","Annual",null,null,"Start Date","2018-01-15","2018-02-15","2018-03-15","Q1 2018","2018-04-15","2018-05-15","2018-06-15","Q2 2018","2018-07-15","2018-08-15","2018-09-15","Q3 2018","2018-10-15","2018-11-15","2018-12-15","Q4 2018","FY 2018"]
["Total costs ",{"$f":"B18+B28+B35","v":439600},null,null,null,{"$f":"F18+F28+F35","v":16333.333333333334},{"$f":"G18+G28+G35","v":16333.333333333334},{"$f":"H18+H28+H35","v":16333.333333333334},{"$f":"SUM(F39:H39)","v":49000},{"$f":"J18+J28+J35","v":32366.666666666668},{"$f":"K18+K28+K35","v":39633.333333333336},{"$f":"L18+L28+L35","v":39633.333333333336},{"$f":"SUM(J39:L39)","v":111633.33333333334},{"$f":"N18+N28+N35","v":39633.333333333336},{"$f":"O18+O28+O35","v":39633.333333333336},{"$f":"P18+P28+P35","v":39633.333333333336},{"$f":"SUM(N39:P39)","v":118900},{"$f":"R18+R28+R35","v":39633.333333333336},{"$f":"S18+S28+S35","v":39633.333333333336},{"$f":"T18+T28+T35","v":39633.333333333336},{"$f":"SUM(R39:T39)","v":118900},{"$f":"I39+M39+Q39+U39","v":398433.33333333337}]

{"sheet":"Charts","index":1,"n_rows":4,"n_cols":6,"rows_kept":4,"cut":false,"hidden":false,"merged":[]}
["Type of cost","Q1","Q2","Q3","Q4","Total"]
["Salary",{"$f":"Costs!I18","v":43600},{"$f":"Costs!M18","v":101733.33333333333},{"$f":"Costs!Q18","v":109000},{"$f":"Costs!U18","v":109000},{"$f":"SUM(B2:E2)","v":363333.33333333331}]
["Office",{"$f":"Costs!I28","v":5400},{"$f":"Costs!M28","v":5400},{"$f":"Costs!Q28","v":5400},{"$f":"Costs!U28","v":5400},{"$f":"SUM(B3:E3)","v":21600}]
["Marketing",{"$f":"Costs!I35","v":0},{"$f":"Costs!M35","v":4500},{"$f":"Costs!Q35","v":4500},{"$f":"Costs!U35","v":4500},{"$f":"SUM(B4:E4)","v":13500}]